BEGIN:VCALENDAR
VERSION:2.0
PRODID:-//Goldfields Aboriginal Language Centre - ECPv6.15.20//NONSGML v1.0//EN
CALSCALE:GREGORIAN
METHOD:PUBLISH
X-ORIGINAL-URL:https://wangka.com.au
X-WR-CALDESC:Events for Goldfields Aboriginal Language Centre
REFRESH-INTERVAL;VALUE=DURATION:PT1H
X-Robots-Tag:noindex
X-PUBLISHED-TTL:PT1H
BEGIN:VTIMEZONE
TZID:UTC
BEGIN:STANDARD
TZOFFSETFROM:+0000
TZOFFSETTO:+0000
TZNAME:UTC
DTSTART:20240101T000000
END:STANDARD
END:VTIMEZONE
BEGIN:VEVENT
DTSTART;TZID=UTC:20250707T180000
DTEND;TZID=UTC:20250711T193000
DTSTAMP:20260423T120355
CREATED:20250310T045158Z
LAST-MODIFIED:20250310T045158Z
UID:10848-1751911200-1752262200@wangka.com.au
SUMMARY:Nintila Kalgoorlie Aboriginal Film Festival 2025
DESCRIPTION:Nintila Kalgoorlie Aboriginal Film Festival 2025 \n\nThe Goldfields Aboriginal Language Centre’s annual Aboriginal film festival runs from Monday 7 July to Friday 11 July 2025.\n\nA free film is shown at Orana Cinema\, Kalgoorlie\, for the festival\, at 6pm each evening.\n\nThere are 4 feature films\, one per night\, and Thursday night is the short film evening. Everyone is welcome to get a free ticket and attend. Tickets available at the Goldfields Language Centre office.\n\nCheck out the films on show this year on this website or our Facebook page. Tickets are free and available from the Language Centre.\n\nFor further info\, email info@wangka.com.au or phone (08)9021 3788
URL:https://wangka.com.au/event/nintila-kalgoorlie-aboriginal-film-festival-2025/
LOCATION:Goldfields Aboriginal Language Centre\, Orana Cinema Complex\, Kalgoorlie\, WA\, 6432\, Australia
CATEGORIES:Film festival
END:VEVENT
END:VCALENDAR