BEGIN:VCALENDAR
VERSION:2.0
PRODID:-//Goldfields Aboriginal Language Centre - ECPv6.15.20//NONSGML v1.0//EN
CALSCALE:GREGORIAN
METHOD:PUBLISH
X-ORIGINAL-URL:https://wangka.com.au
X-WR-CALDESC:Events for Goldfields Aboriginal Language Centre
REFRESH-INTERVAL;VALUE=DURATION:PT1H
X-Robots-Tag:noindex
X-PUBLISHED-TTL:PT1H
BEGIN:VTIMEZONE
TZID:UTC
BEGIN:STANDARD
TZOFFSETFROM:+0000
TZOFFSETTO:+0000
TZNAME:UTC
DTSTART:20210101T000000
END:STANDARD
END:VTIMEZONE
BEGIN:VEVENT
DTSTART;TZID=UTC:20220704T100000
DTEND;TZID=UTC:20220704T160000
DTSTAMP:20260421T133105
CREATED:20211105T035051Z
LAST-MODIFIED:20211105T040853Z
UID:3449-1656928800-1656950400@wangka.com.au
SUMMARY:Competition Winner Announced
DESCRIPTION:Nintila 5-Minute film Phone Competition \n\nThe Winner will be announced on The GALC Facebook Page on Monday 4th July 2022.\n\nFor further info\, email info@wangka.com.au or phone (08)9021 3788
URL:https://wangka.com.au/event/competition-winner-announced/
LOCATION:Goldfields Aboriginal Language Centre\, Orana Cinema Complex\, Kalgoorlie\, WA\, 6432\, Australia
END:VEVENT
BEGIN:VEVENT
DTSTART;TZID=UTC:20220704T103000
DTEND;TZID=UTC:20220704T113000
DTSTAMP:20260421T133105
CREATED:20211110T015640Z
LAST-MODIFIED:20211110T020219Z
UID:3545-1656930600-1656934200@wangka.com.au
SUMMARY:NAIDOC street parade
DESCRIPTION:NAIDOC street parade\n\nNAIDOC Week celebrations are held across Australia each July to celebrate the history\, culture and achievements of Aboriginal and Torres Strait Islander peoples. NAIDOC is celebrated not only in Indigenous communities\, but by Australians from all walks of life.\n\nThis street parade celebrates NAIDOC! Everyone welcome to join or come watch the parade.\n\nFrom the top of Hannan Street to Kingsbury Park\n\nFor further info\, email info@wangka.com.au or phone (08)9021 3788
URL:https://wangka.com.au/event/naidoc-street-parade/
LOCATION:WA
END:VEVENT
BEGIN:VEVENT
DTSTART;TZID=UTC:20220704T180000
DTEND;TZID=UTC:20220708T193000
DTSTAMP:20260421T133106
CREATED:20211020T082236Z
LAST-MODIFIED:20211020T082358Z
UID:3332-1656957600-1657308600@wangka.com.au
SUMMARY:Kalgoorlie Aboriginal Film Festival 2022
DESCRIPTION:Kalgoorlie Aboriginal Film Festival 2022 \n\nThe Goldfields Aboriginal Language Centre’s annual Aboriginal film festival runs from Monday 4th July to Friday 8th July 2022.\n\nA free film is shown at Orana Cinema\, Kalgoorlie\, for the festival\, at 6pm each evening.\n\nThere are 4 feature films and Thursday night is the short film evening. Everyone is welcome to get a ticket and attend.\n\nCheck out the films on show this year on this website or our Facebook page. Tickets are free and available from the Language Centre.\n\nFor further info\, email info@wangka.com.au or phone (08)9021 3788
URL:https://wangka.com.au/event/kalgoorlie-aboriginal-film-festival-2022/
LOCATION:Goldfields Aboriginal Language Centre\, Orana Cinema Complex\, Kalgoorlie\, WA\, 6432\, Australia
END:VEVENT
END:VCALENDAR