BEGIN:VCALENDAR
VERSION:2.0
PRODID:-//Goldfields Aboriginal Language Centre - ECPv6.15.20//NONSGML v1.0//EN
CALSCALE:GREGORIAN
METHOD:PUBLISH
X-ORIGINAL-URL:https://wangka.com.au
X-WR-CALDESC:Events for Goldfields Aboriginal Language Centre
REFRESH-INTERVAL;VALUE=DURATION:PT1H
X-Robots-Tag:noindex
X-PUBLISHED-TTL:PT1H
BEGIN:VTIMEZONE
TZID:UTC
BEGIN:STANDARD
TZOFFSETFROM:+0000
TZOFFSETTO:+0000
TZNAME:UTC
DTSTART:20210101T000000
END:STANDARD
END:VTIMEZONE
BEGIN:VEVENT
DTSTART;TZID=UTC:20220617T083000
DTEND;TZID=UTC:20220617T160000
DTSTAMP:20260420T035240
CREATED:20211105T033235Z
LAST-MODIFIED:20211105T033235Z
UID:3446-1655454600-1655481600@wangka.com.au
SUMMARY:Competition Entries Due Today!
DESCRIPTION:Nintila: 5-minute Phone Film Competition 2022 \nThe film competition entries are due today at 4pm. Make sure to get the sent through! \n\nFurther info\, email info@wangka.com.au or phone (08)9021 3788
URL:https://wangka.com.au/event/competition-entries-due-today/
LOCATION:Goldfields Aboriginal Language Centre\, Orana Cinema Complex\, Kalgoorlie\, WA\, 6432\, Australia
END:VEVENT
BEGIN:VEVENT
DTSTART;TZID=UTC:20220617T120000
DTEND;TZID=UTC:20220617T133000
DTSTAMP:20260420T035240
CREATED:20211119T054409Z
LAST-MODIFIED:20211119T054409Z
UID:3713-1655467200-1655472600@wangka.com.au
SUMMARY:Wangka Soup Friday 17th Jun 2022
DESCRIPTION:Wangka Soup Fridays! \n\nCome join the Language Centre staff for a cup of delicious home made soup\, a bun and a chat!\n\n\nEvery Friday at the Goldfields Aboriginal Language Centre 12pm-1:30pm\n\nFor further info\, email info@wangka.com.au or phone (08)9021 3788
URL:https://wangka.com.au/event/wangka-soup-friday-17th-jun-2022/
LOCATION:Goldfields Aboriginal Language Centre\, Orana Cinema Complex\, Kalgoorlie\, WA\, 6432\, Australia
END:VEVENT
END:VCALENDAR