BEGIN:VCALENDAR
VERSION:2.0
PRODID:-//Goldfields Aboriginal Language Centre - ECPv6.15.20//NONSGML v1.0//EN
CALSCALE:GREGORIAN
METHOD:PUBLISH
X-ORIGINAL-URL:https://wangka.com.au
X-WR-CALDESC:Events for Goldfields Aboriginal Language Centre
REFRESH-INTERVAL;VALUE=DURATION:PT1H
X-Robots-Tag:noindex
X-PUBLISHED-TTL:PT1H
BEGIN:VTIMEZONE
TZID:UTC
BEGIN:STANDARD
TZOFFSETFROM:+0000
TZOFFSETTO:+0000
TZNAME:UTC
DTSTART:20210101T000000
END:STANDARD
END:VTIMEZONE
BEGIN:VEVENT
DTSTART;TZID=UTC:20220519T103000
DTEND;TZID=UTC:20220519T123000
DTSTAMP:20260421T093430
CREATED:20211009T073933Z
LAST-MODIFIED:20211009T073933Z
UID:3236-1652956200-1652963400@wangka.com.au
SUMMARY:Goldfields Aboriginal Language Awards Event
DESCRIPTION:The Goldfields Aboriginal Language Awards event \nJoin GALCAC Directors\, staff and friends for a morning tea awards ceremony at the Railway Motel ‘Forrest Function Room’ for the annual ‘Goldfields Aboriginal Language Awards’. \nThis awards event recognises the language champions in our community\, the outstanding businesses and agencies that support language use and continuation. \nRSVP to the GALCAC to reserve your place at this free event. info@wangka.com.au or phone 08 9021 3788
URL:https://wangka.com.au/event/goldfields-aboriginal-language-awards-event/
LOCATION:Goldfields Aboriginal Language Centre\, Orana Cinema Complex\, Kalgoorlie\, WA\, 6432\, Australia
END:VEVENT
END:VCALENDAR